BEGIN:VCALENDAR
VERSION:2.0
PRODID:-//ChamberMaster//Event Calendar 2.0//EN
METHOD:PUBLISH
X-PUBLISHED-TTL:P3D
REFRESH-INTERVAL:P3D
CALSCALE:GREGORIAN
BEGIN:VEVENT
DTSTART:20260310T193000Z
DTEND:20260310T200000Z
X-MICROSOFT-CDO-ALLDAYEVENT:FALSE
SUMMARY:Ribbon Cutting - Mr. Zason Fresh Mexican Grill
DESCRIPTION:
X-ALT-DESC;FMTTYPE=text/html:
LOCATION:12500 E 86th St N Owasso\, OK 74055
UID:e.2346.6345
SEQUENCE:3
DTSTAMP:20260420T134133Z
URL:https://business.owassochamber.com/events/details/ribbon-cutting-mr-zason-fresh-mexican-grill-6345
END:VEVENT

END:VCALENDAR
