BEGIN:VCALENDAR
VERSION:2.0
PRODID:-//ChamberMaster//Event Calendar 2.0//EN
METHOD:PUBLISH
X-PUBLISHED-TTL:P3D
REFRESH-INTERVAL:P3D
CALSCALE:GREGORIAN
BEGIN:VEVENT
DTSTART:20260408T180000Z
DTEND:20260408T183000Z
X-MICROSOFT-CDO-ALLDAYEVENT:FALSE
SUMMARY:2026 Re-Grand Opening & Ribbon Cutting – Medicap Pharmacy *Celebrating 25 years*
DESCRIPTION:Come Celebrate a Re-Grand Opening & Ribbon Cutting   Medicap Pharmacy  *Celebrating 25 years*
X-ALT-DESC;FMTTYPE=text/html:Come Celebrate a Re-Grand Opening &amp\; Ribbon Cutting &ndash\; Medicap Pharmacy&nbsp\; *Celebrating 25 years*
LOCATION:130 S Main St Owasso\, OK 74055
UID:e.2346.6332
SEQUENCE:3
DTSTAMP:20260422T110032Z
URL:https://business.owassochamber.com/events/details/re-grand-opening-ribbon-cutting-medicap-pharmacy-celebrating-25-years-6332
END:VEVENT

END:VCALENDAR
