BEGIN:VCALENDAR
VERSION:2.0
PRODID:-//ChamberMaster//Event Calendar 2.0//EN
METHOD:PUBLISH
X-PUBLISHED-TTL:P3D
REFRESH-INTERVAL:P3D
CALSCALE:GREGORIAN
BEGIN:VEVENT
DTSTART:20261008T223000Z
DTEND:20261009T000000Z
X-MICROSOFT-CDO-ALLDAYEVENT:FALSE
SUMMARY:2026 October Member Mixer
DESCRIPTION:The Owasso Chamber's Member Mixer is a new after-hours networking event\, held from 5:30-7 PM at a sponsored business location. Designed for those who can't break away during the day\, these casual gatherings offer the perfect space to connect after work with the fellow business and community members. Enjoy light appetizers and beverages while building relationship in a relaxed\, welcoming atmosphere. Like the Business Over Breakfasts\, there will be a drawing for $100 cash.
X-ALT-DESC;FMTTYPE=text/html:The Owasso Chamber&#39\;s Member Mixer is a new after-hours networking event\, held from 5:30-7 PM at a sponsored business location. Designed for those who can&#39\;t break away during the day\, these casual gatherings offer the perfect space to connect after work with the fellow business and community members. Enjoy light appetizers and beverages while building relationship in a relaxed\, welcoming atmosphere. Like the Business Over Breakfasts\, there will be a drawing for $100 cash.
LOCATION:TBA
UID:e.2346.6363
SEQUENCE:3
DTSTAMP:20260423T075800Z
URL:https://business.owassochamber.com/events/details/2026-october-member-mixer-6363
END:VEVENT

END:VCALENDAR
