BEGIN:VCALENDAR
VERSION:2.0
PRODID:-//ChamberMaster//Event Calendar 2.0//EN
METHOD:PUBLISH
X-PUBLISHED-TTL:P3D
REFRESH-INTERVAL:P3D
CALSCALE:GREGORIAN
BEGIN:VEVENT
DTSTART:20261118T180000Z
DTEND:20261118T190000Z
X-MICROSOFT-CDO-ALLDAYEVENT:FALSE
SUMMARY:2026 November Chamber Perks
DESCRIPTION:Curious about what the Chamber offers? Do you know someone thinking about joining but not quite sure what we do?\n\nJoin us at the Chamber office for a quick 50-minute overview of the Owasso Chamber\, followed by time to connect and network with others.\n\nIf you can't make it this month\, no problem these sessions will be offered throughout the year. We look forward to sharing more about what we do and how you can get involved.
X-ALT-DESC;FMTTYPE=text/html:<p align="center" style="margin: 0px\; padding: 0px\; color: rgb(64\, 63\, 66)\; font-family: Arial\, Verdana\, Helvetica\, sans-serif\; font-size: 12px\; text-align: center\;">&nbsp\;</p>\n\n<p data-end="107" data-start="0">Curious about what the Chamber offers? Do you know someone thinking about joining but not quite sure what we do?</p>\n\n<p data-end="247" data-start="109">Join us at the Chamber office for a quick 50-minute overview of the Owasso Chamber\, followed by time to connect and network with others.</p>\n\n<p data-end="423" data-is-last-node="" data-is-only-node="" data-start="249">If you can&rsquo\;t make it this month\, no problem&mdash\;these sessions will be offered throughout the year. We look forward to sharing more about what we do and how you can get involved.</p>\n
LOCATION:Chamber Office 315 S. Cedar Street Owasso\, OK\, 74055
UID:e.2346.6327
SEQUENCE:3
DTSTAMP:20260423T102040Z
URL:https://business.owassochamber.com/events/details/2026-november-chamber-perks-6327
END:VEVENT

END:VCALENDAR
