BEGIN:VCALENDAR
VERSION:2.0
PRODID:-//ChamberMaster//Event Calendar 2.0//EN
METHOD:PUBLISH
X-PUBLISHED-TTL:P3D
REFRESH-INTERVAL:P3D
CALSCALE:GREGORIAN
BEGIN:VEVENT
DTSTART:20261209T180000Z
DTEND:20261209T190000Z
X-MICROSOFT-CDO-ALLDAYEVENT:FALSE
SUMMARY:2026 December Workforce Owasso Luncheon
DESCRIPTION:Workforce Owasso is an engaging luncheon event held four times a year designed for employers\, educators\, and human resource managers. This gathering provides a valuable opportunity to explore various resources available for workforce training and pipeline development. Attendees will gain insights into innovative strategies and programs that can enhance their workforce capabilities\, ensuring they stay competitive in today's dynamic job market. Join us to network\, share ideas\, and learn how to effectively build and sustain a skilled workforce for the future.
X-ALT-DESC;FMTTYPE=text/html:<span style="font-family:aptos narrow\,sans-serif\;"><span style="font-size:11.0pt\;">Workforce Owasso is an engaging luncheon event held four times a year designed for employers\, educators\, and human resource managers. This gathering provides a valuable opportunity to explore various resources available for workforce training and pipeline development. Attendees will gain insights into innovative strategies and programs that can enhance their workforce capabilities\, ensuring they stay competitive in today&#39\;s dynamic job market. Join us to network\, share ideas\, and learn how to effectively build and sustain a skilled workforce for the future.</span></span>
LOCATION:Old Central (Tile Room) 109 N. Birch St.\, Owasso\, OK 74055
UID:e.2346.6366
SEQUENCE:3
DTSTAMP:20260423T113656Z
URL:https://business.owassochamber.com/events/details/2026-december-workforce-owasso-luncheon-6366
END:VEVENT

END:VCALENDAR
