BEGIN:VCALENDAR
VERSION:2.0
PRODID:-//ChamberMaster//Event Calendar 2.0//EN
METHOD:PUBLISH
X-PUBLISHED-TTL:P3D
REFRESH-INTERVAL:P3D
CALSCALE:GREGORIAN
BEGIN:VEVENT
DTSTART;VALUE=DATE:20261201
DTEND;VALUE=DATE:20261202
TRANSP:TRANSPARENT
X-MICROSOFT-CDO-ALLDAYEVENT:TRUE
SUMMARY:2026 December Chamber Connect Sponsor
DESCRIPTION:1 Month of Premium Placement at the TOP of Chamber Connect with clickable social and website links.
X-ALT-DESC;FMTTYPE=text/html:1 Month of Premium Placement at the TOP of Chamber Connect with clickable social and website links.&nbsp\;
LOCATION:
UID:e.2346.6365
SEQUENCE:3
DTSTAMP:20260423T140430Z
URL:https://business.owassochamber.com/events/details/2026-december-chamber-connect-sponsor-6365
END:VEVENT

END:VCALENDAR
