BEGIN:VCALENDAR
VERSION:2.0
PRODID:-//ChamberMaster//Event Calendar 2.0//EN
METHOD:PUBLISH
X-PUBLISHED-TTL:P3D
REFRESH-INTERVAL:P3D
CALSCALE:GREGORIAN
BEGIN:VEVENT
DTSTART:20261002T130000Z
DTEND:20261002T180000Z
X-MICROSOFT-CDO-ALLDAYEVENT:FALSE
SUMMARY:2026 Annual Chamber Golf Classic
DESCRIPTION:Join us for the highly anticipated Owasso Chamber Annual Golf \n\nClassic this October at the picturesque Bailey Ranch Golf Course! \n\nOne-flight event promises an exciting blend of \n\ncompetition\, camaraderie\, and networking opportunities. Whether \n\nyou're an avid golfer or a novice\, this scramble offers a fantastic \n\nway to connect with fellow chamber members and local business \n\nleaders in a relaxed\, outdoor setting.\n\n\n\nInvest in this premier event to not only elevate your brand but also \n\nto enjoy a memorable day of golf\, prizes\, and networking. Don't \n\nmiss out on this chance to be part of a tradition that brings together \n\nthe best of Owasso's business landscape. Secure your spot today \n\nand take advantage of this unique opportunity to mix business with \n\npleasure!
X-ALT-DESC;FMTTYPE=text/html:Join us for the highly anticipated Owasso Chamber Annual Golf&nbsp\;<br />\nClassic this October at the picturesque Bailey Ranch Golf Course!&nbsp\;<br />\nOne-flight event promises an exciting blend of&nbsp\;<br />\ncompetition\, camaraderie\, and networking opportunities. Whether&nbsp\;<br />\nyou&rsquo\;re an avid golfer or a novice\, this scramble offers a fantastic&nbsp\;<br />\nway to connect with fellow chamber members and local business&nbsp\;<br />\nleaders in a relaxed\, outdoor setting.<br />\n<br />\nInvest in this premier event to not only elevate your brand but also&nbsp\;<br />\nto enjoy a memorable day of golf\, prizes\, and networking. Don&rsquo\;t&nbsp\;<br />\nmiss out on this chance to be part of a tradition that brings together&nbsp\;<br />\nthe best of Owasso&rsquo\;s business landscape. Secure your spot today&nbsp\;<br />\nand take advantage of this unique opportunity to mix business with&nbsp\;<br />\npleasure!
LOCATION:Bailey Ranch Golf Course\, Owasso
UID:e.2346.6313
SEQUENCE:3
DTSTAMP:20260422T124627Z
URL:https://business.owassochamber.com/events/details/2026-annual-chamber-golf-classic-6313
END:VEVENT

END:VCALENDAR
