BEGIN:VCALENDAR
VERSION:2.0
PRODID:-//ChamberMaster//Event Calendar 2.0//EN
METHOD:PUBLISH
X-PUBLISHED-TTL:P3D
REFRESH-INTERVAL:P3D
CALSCALE:GREGORIAN
BEGIN:VEVENT
DTSTART:20240806T230000Z
DTEND:20240807T010000Z
X-MICROSOFT-CDO-ALLDAYEVENT:FALSE
SUMMARY:2024 Stag & Swagger
DESCRIPTION:Enjoy an evening of drinks\, food\, cigars\, and sports while networking among your friends at Stag & Swagger. Tickets provide dinner and whiskey/ bourbon tasting. Our game\, sport\, and hobby businesses will be invited to bring some fun products and swag.
X-ALT-DESC;FMTTYPE=text/html:Enjoy an evening of drinks\, food\, cigars\, and sports while networking among your friends at Stag &amp\; Swagger. Tickets provide dinner and whiskey/ bourbon tasting. Our game\, sport\, and hobby businesses will be invited to bring some fun products and swag.&nbsp\;
LOCATION:Bailey Ranch Clubhouse 10105 Larkin Bailey Blvd Owasso\, OK 74055
UID:e.2346.5613
SEQUENCE:3
DTSTAMP:20260419T154911Z
URL:https://business.owassochamber.com/events/details/2024-stag-swagger-5613
END:VEVENT

END:VCALENDAR
