BEGIN:VCALENDAR
VERSION:2.0
PRODID:-//ChamberMaster//Event Calendar 2.0//EN
METHOD:PUBLISH
X-PUBLISHED-TTL:P3D
REFRESH-INTERVAL:P3D
CALSCALE:GREGORIAN
BEGIN:VEVENT
DTSTART:20240626T130000Z
DTEND:20240626T140000Z
X-MICROSOFT-CDO-ALLDAYEVENT:FALSE
SUMMARY:2024 June Pastries & Perks
DESCRIPTION:Want to learn more about your Chamber? Know anyone interested in joining but they aren't sure what we do? These sessions are for YOU!\n\nBeginning in 2024\, we will hold these twice a month. Popcorn & Perks will be from 4-5 PM the second Wednesday of the month and Pastries & Perks will be from 8-9 AM the fourth Wednesday of the month. These will be held at the Chamber office and refreshments will be provided.\n\nCome hear in a quick 50-minute presentation all about your Owasso Chamber and network with others. Can't make it this month? That's okay because these will be ongoing through the year. We can't wait to share more with you about why we do what we do and how you can be part of it!
X-ALT-DESC;FMTTYPE=text/html:<p align="center" style="margin: 0px\; padding: 0px\; color: rgb(64\, 63\, 66)\; font-family: Arial\, Verdana\, Helvetica\, sans-serif\; font-size: 12px\; text-align: center\;"><span style="font-family: &quot\;Century Gothic&quot\;\, Calibri\, Helvetica\, Arial\, sans-serif\; font-size: 14px\; font-weight: bold\;">Want to learn more about your Chamber? Know anyone interested in joining but they aren&#39\;t sure what we do? These sessions are for YOU!</span></p>\n\n<p align="center" style="margin: 0px\; padding: 0px\; color: rgb(64\, 63\, 66)\; font-family: Arial\, Verdana\, Helvetica\, sans-serif\; font-size: 12px\; text-align: center\;"><span style="font-family: &quot\;Century Gothic&quot\;\, Calibri\, Helvetica\, Arial\, sans-serif\; font-size: 14px\; font-weight: bold\;">Beginning in 2024\, we will hold these twice a month. Popcorn &amp\; Perks will be from 4-5 PM the second Wednesday of the month and Pastries &amp\; Perks will be from 8-9 AM the fourth Wednesday of the month. These will be held at the Chamber office and refreshments will be provided.</span></p>\n\n<p align="center" style="margin: 0px\; padding: 0px\; color: rgb(64\, 63\, 66)\; font-family: Arial\, Verdana\, Helvetica\, sans-serif\; font-size: 12px\; text-align: center\;"><span style="font-family: &quot\;Century Gothic&quot\;\, Calibri\, Helvetica\, Arial\, sans-serif\; font-size: 14px\; font-weight: bold\;">Come hear in a quick 50-minute presentation all about your Owasso Chamber and network with others. Can&#39\;t make it this month? That&#39\;s okay because these will be ongoing through the year. We can&#39\;t wait to share more with you about why we do what we do and how you can be part of it!</span></p>\n
LOCATION:Chamber Office 315 S. Cedar Street Owasso\, OK\, 74055
UID:e.2346.5796
SEQUENCE:3
DTSTAMP:20260420T184121Z
URL:https://business.owassochamber.com/events/details/2024-june-pastries-perks-5796
END:VEVENT

END:VCALENDAR
