BEGIN:VCALENDAR
VERSION:2.0
PRODID:-//ChamberMaster//Event Calendar 2.0//EN
METHOD:PUBLISH
X-PUBLISHED-TTL:P3D
REFRESH-INTERVAL:P3D
CALSCALE:GREGORIAN
BEGIN:VEVENT
DTSTART;VALUE=DATE:20240718
DTEND;VALUE=DATE:20240719
TRANSP:TRANSPARENT
X-MICROSOFT-CDO-ALLDAYEVENT:TRUE
SUMMARY:2024 July Ambassador Meeting
DESCRIPTION:.The Ambassadors Club is a committee of the Owasso Chamber. They participate in ribbon cuttings\, grand openings\, tours\, and other special events in Owasso and the surrounding areas. They promote good will\, understanding\, and exposure of the Owasso Chamber and the Community. They are the foot soldiers of the organization recruiting and retaining members. They welcome\, greet\, and onboard Chamber members and guests. This club consists of no more than 30 unique members. If you are interested in becoming a member of the Ambassadors Club\, please ask Chamber staff or an Ambassador for more information.
X-ALT-DESC;FMTTYPE=text/html:<p dir="ltr" style="line-height:1.38\;margin-top:0pt\;margin-bottom:0pt\;"><span id="docs-internal-guid-420ffc57-7fff-db47-c02e-842d7489340a"><span style="font-size: 11pt\; font-family: Arial\, sans-serif\; color: rgb(0\, 0\, 0)\; background-color: transparent\; font-variant-numeric: normal\; font-variant-east-asian: normal\; font-variant-alternates: normal\; font-variant-position: normal\; vertical-align: baseline\; white-space-collapse: preserve\;">.</span><span style="font-size: 10pt\; font-family: Arial\, sans-serif\; font-variant-numeric: normal\; font-variant-east-asian: normal\; font-variant-alternates: normal\; font-variant-position: normal\; vertical-align: baseline\; white-space-collapse: preserve\;">The Ambassadors Club is a committee of the Owasso Chamber. They participate in ribbon cuttings\, grand openings\, tours\, and other special events in Owasso and the surrounding areas. They promote good will\, understanding\, and exposure of the Owasso Chamber and the Community. They are the foot soldiers of the organization recruiting and retaining members. They welcome\, greet\, and onboard Chamber members and guests. This club consists of no more than 30 unique members. If you are interested in becoming a member of the Ambassadors Club\, please ask Chamber staff or an Ambassador for more information.</span></span></p>\n
LOCATION:Ascension St John Owasso 12451 E 100th St N Owasso\, OK 74055
UID:e.2346.4773
SEQUENCE:3
DTSTAMP:20260421T022053Z
URL:https://business.owassochamber.com/events/details/2024-july-ambassador-meeting-4773
END:VEVENT

END:VCALENDAR
